Workbook

Sheet Budget Summary
A1: DESIGNED & BUILT | PROJECT BUDGET WORKSHEET
A2: Track the budget, commitments, and forecast without the complexity of a contractor estimate.
A4: Project Name | B4: 2,500 SF Ohio Single-Family House - Test Estimate | E4: Date | F4: 46315
A5: Project Location | B5: Ohio (statewide planning assumption) | E5: Project Status | F5: Concept Budget
A6: Owner / Client | B6: Illustrative Test Case | E6: Total Project SF | F6: 2500
A8: PROJECT SUMMARY
A9: Current Budget | B9: =D44 -> 734000 | C9: Committed | D9: =E44 -> 0 | E9: Forecast Final | F9: =G44 -> 734000 | G9: Budget Variance | H9: =H44 -> 0
A12: Category | B12: Original Budget | C12: Approved Changes | D12: Current Budget | E12: Committed | F12: Forecast to Complete | G12: Forecast Final | H12: Variance
A13: HARD COSTS
A14: General Conditions | B14: =SUMIF('Cost Detail'!$A$5:$A$54,$A14,'Cost Detail'!$D$5:$D$54) -> 50000 | C14: =SUMIF('Cost Detail'!$A$5:$A$54,$A14,'Cost Detail'!$E$5:$E$54) -> 0 | D14: =B14+C14 -> 50000 | E14: =SUMIF('Cost Detail'!$A$5:$A$54,$A14,'Cost Detail'!$G$5:$G$54) -> 0 | F14: =SUMIF('Cost Detail'!$A$5:$A$54,$A14,'Cost Detail'!$I$5:$I$54) -> 50000 | G14: =E14+F14 -> 50000 | H14: =D14-G14 -> 0
A15: Site Work & Demolition | B15: =SUMIF('Cost Detail'!$A$5:$A$54,$A15,'Cost Detail'!$D$5:$D$54) -> 35000 | C15: =SUMIF('Cost Detail'!$A$5:$A$54,$A15,'Cost Detail'!$E$5:$E$54) -> 0 | D15: =B15+C15 -> 35000 | E15: =SUMIF('Cost Detail'!$A$5:$A$54,$A15,'Cost Detail'!$G$5:$G$54) -> 0 | F15: =SUMIF('Cost Detail'!$A$5:$A$54,$A15,'Cost Detail'!$I$5:$I$54) -> 35000 | G15: =E15+F15 -> 35000 | H15: =D15-G15 -> 0
A16: Structure | B16: =SUMIF('Cost Detail'!$A$5:$A$54,$A16,'Cost Detail'!$D$5:$D$54) -> 80000 | C16: =SUMIF('Cost Detail'!$A$5:$A$54,$A16,'Cost Detail'!$E$5:$E$54) -> 0 | D16: =B16+C16 -> 80000 | E16: =SUMIF('Cost Detail'!$A$5:$A$54,$A16,'Cost Detail'!$G$5:$G$54) -> 0 | F16: =SUMIF('Cost Detail'!$A$5:$A$54,$A16,'Cost Detail'!$I$5:$I$54) -> 80000 | G16: =E16+F16 -> 80000 | H16: =D16-G16 -> 0
A17: Carpentry & Framing | B17: =SUMIF('Cost Detail'!$A$5:$A$54,$A17,'Cost Detail'!$D$5:$D$54) -> 95000 | C17: =SUMIF('Cost Detail'!$A$5:$A$54,$A17,'Cost Detail'!$E$5:$E$54) -> 0 | D17: =B17+C17 -> 95000 | E17: =SUMIF('Cost Detail'!$A$5:$A$54,$A17,'Cost Detail'!$G$5:$G$54) -> 0 | F17: =SUMIF('Cost Detail'!$A$5:$A$54,$A17,'Cost Detail'!$I$5:$I$54) -> 95000 | G17: =E17+F17 -> 95000 | H17: =D17-G17 -> 0
A18: Building Envelope / Roofing | B18: =SUMIF('Cost Detail'!$A$5:$A$54,$A18,'Cost Detail'!$D$5:$D$54) -> 70000 | C18: =SUMIF('Cost Detail'!$A$5:$A$54,$A18,'Cost Detail'!$E$5:$E$54) -> 0 | D18: =B18+C18 -> 70000 | E18: =SUMIF('Cost Detail'!$A$5:$A$54,$A18,'Cost Detail'!$G$5:$G$54) -> 0 | F18: =SUMIF('Cost Detail'!$A$5:$A$54,$A18,'Cost Detail'!$I$5:$I$54) -> 70000 | G18: =E18+F18 -> 70000 | H18: =D18-G18 -> 0
A19: Doors / Windows / Glazing | B19: =SUMIF('Cost Detail'!$A$5:$A$54,$A19,'Cost Detail'!$D$5:$D$54) -> 45000 | C19: =SUMIF('Cost Detail'!$A$5:$A$54,$A19,'Cost Detail'!$E$5:$E$54) -> 0 | D19: =B19+C19 -> 45000 | E19: =SUMIF('Cost Detail'!$A$5:$A$54,$A19,'Cost Detail'!$G$5:$G$54) -> 0 | F19: =SUMIF('Cost Detail'!$A$5:$A$54,$A19,'Cost Detail'!$I$5:$I$54) -> 45000 | G19: =E19+F19 -> 45000 | H19: =D19-G19 -> 0
A20: Interior Construction & Finishes | B20: =SUMIF('Cost Detail'!$A$5:$A$54,$A20,'Cost Detail'!$D$5:$D$54) -> 105000 | C20: =SUMIF('Cost Detail'!$A$5:$A$54,$A20,'Cost Detail'!$E$5:$E$54) -> 0 | D20: =B20+C20 -> 105000 | E20: =SUMIF('Cost Detail'!$A$5:$A$54,$A20,'Cost Detail'!$G$5:$G$54) -> 0 | F20: =SUMIF('Cost Detail'!$A$5:$A$54,$A20,'Cost Detail'!$I$5:$I$54) -> 105000 | G20: =E20+F20 -> 105000 | H20: =D20-G20 -> 0
A21: Mechanical / Plumbing / Electrical | B21: =SUMIF('Cost Detail'!$A$5:$A$54,$A21,'Cost Detail'!$D$5:$D$54) -> 90000 | C21: =SUMIF('Cost Detail'!$A$5:$A$54,$A21,'Cost Detail'!$E$5:$E$54) -> 0 | D21: =B21+C21 -> 90000 | E21: =SUMIF('Cost Detail'!$A$5:$A$54,$A21,'Cost Detail'!$G$5:$G$54) -> 0 | F21: =SUMIF('Cost Detail'!$A$5:$A$54,$A21,'Cost Detail'!$I$5:$I$54) -> 90000 | G21: =E21+F21 -> 90000 | H21: =D21-G21 -> 0
A22: Fire Protection | B22: =SUMIF('Cost Detail'!$A$5:$A$54,$A22,'Cost Detail'!$D$5:$D$54) -> 0 | C22: =SUMIF('Cost Detail'!$A$5:$A$54,$A22,'Cost Detail'!$E$5:$E$54) -> 0 | D22: =B22+C22 -> 0 | E22: =SUMIF('Cost Detail'!$A$5:$A$54,$A22,'Cost Detail'!$G$5:$G$54) -> 0 | F22: =SUMIF('Cost Detail'!$A$5:$A$54,$A22,'Cost Detail'!$I$5:$I$54) -> 0 | G22: =E22+F22 -> 0 | H22: =D22-G22 -> 0
A23: Site / Exterior Improvements | B23: =SUMIF('Cost Detail'!$A$5:$A$54,$A23,'Cost Detail'!$D$5:$D$54) -> 30000 | C23: =SUMIF('Cost Detail'!$A$5:$A$54,$A23,'Cost Detail'!$E$5:$E$54) -> 0 | D23: =B23+C23 -> 30000 | E23: =SUMIF('Cost Detail'!$A$5:$A$54,$A23,'Cost Detail'!$G$5:$G$54) -> 0 | F23: =SUMIF('Cost Detail'!$A$5:$A$54,$A23,'Cost Detail'!$I$5:$I$54) -> 30000 | G23: =E23+F23 -> 30000 | H23: =D23-G23 -> 0
A24: Hard Costs Subtotal | B24: =SUM(B14:B23) -> 600000 | C24: =SUM(C14:C23) -> 0 | D24: =SUM(D14:D23) -> 600000 | E24: =SUM(E14:E23) -> 0 | F24: =SUM(F14:F23) -> 600000 | G24: =SUM(G14:G23) -> 600000 | H24: =SUM(H14:H23) -> 0
A25: SOFT COSTS
A26: Architecture & Engineering | B26: =SUMIF('Cost Detail'!$A$5:$A$54,$A26,'Cost Detail'!$D$5:$D$54) -> 42000 | C26: =SUMIF('Cost Detail'!$A$5:$A$54,$A26,'Cost Detail'!$E$5:$E$54) -> 0 | D26: =B26+C26 -> 42000 | E26: =SUMIF('Cost Detail'!$A$5:$A$54,$A26,'Cost Detail'!$G$5:$G$54) -> 0 | F26: =SUMIF('Cost Detail'!$A$5:$A$54,$A26,'Cost Detail'!$I$5:$I$54) -> 42000 | G26: =E26+F26 -> 42000 | H26: =D26-G26 -> 0
A27: Survey / Geotechnical | B27: =SUMIF('Cost Detail'!$A$5:$A$54,$A27,'Cost Detail'!$D$5:$D$54) -> 6000 | C27: =SUMIF('Cost Detail'!$A$5:$A$54,$A27,'Cost Detail'!$E$5:$E$54) -> 0 | D27: =B27+C27 -> 6000 | E27: =SUMIF('Cost Detail'!$A$5:$A$54,$A27,'Cost Detail'!$G$5:$G$54) -> 0 | F27: =SUMIF('Cost Detail'!$A$5:$A$54,$A27,'Cost Detail'!$I$5:$I$54) -> 6000 | G27: =E27+F27 -> 6000 | H27: =D27-G27 -> 0
A28: Permits / Plan Review | B28: =SUMIF('Cost Detail'!$A$5:$A$54,$A28,'Cost Detail'!$D$5:$D$54) -> 8000 | C28: =SUMIF('Cost Detail'!$A$5:$A$54,$A28,'Cost Detail'!$E$5:$E$54) -> 0 | D28: =B28+C28 -> 8000 | E28: =SUMIF('Cost Detail'!$A$5:$A$54,$A28,'Cost Detail'!$G$5:$G$54) -> 0 | F28: =SUMIF('Cost Detail'!$A$5:$A$54,$A28,'Cost Detail'!$I$5:$I$54) -> 8000 | G28: =E28+F28 -> 8000 | H28: =D28-G28 -> 0
A29: Testing / Inspections | B29: =SUMIF('Cost Detail'!$A$5:$A$54,$A29,'Cost Detail'!$D$5:$D$54) -> 3000 | C29: =SUMIF('Cost Detail'!$A$5:$A$54,$A29,'Cost Detail'!$E$5:$E$54) -> 0 | D29: =B29+C29 -> 3000 | E29: =SUMIF('Cost Detail'!$A$5:$A$54,$A29,'Cost Detail'!$G$5:$G$54) -> 0 | F29: =SUMIF('Cost Detail'!$A$5:$A$54,$A29,'Cost Detail'!$I$5:$I$54) -> 3000 | G29: =E29+F29 -> 3000 | H29: =D29-G29 -> 0
A30: Insurance / Legal / Financing | B30: =SUMIF('Cost Detail'!$A$5:$A$54,$A30,'Cost Detail'!$D$5:$D$54) -> 5000 | C30: =SUMIF('Cost Detail'!$A$5:$A$54,$A30,'Cost Detail'!$E$5:$E$54) -> 0 | D30: =B30+C30 -> 5000 | E30: =SUMIF('Cost Detail'!$A$5:$A$54,$A30,'Cost Detail'!$G$5:$G$54) -> 0 | F30: =SUMIF('Cost Detail'!$A$5:$A$54,$A30,'Cost Detail'!$I$5:$I$54) -> 5000 | G30: =E30+F30 -> 5000 | H30: =D30-G30 -> 0
A31: Soft Costs Subtotal | B31: =SUM(B26:B30) -> 64000 | C31: =SUM(C26:C30) -> 0 | D31: =SUM(D26:D30) -> 64000 | E31: =SUM(E26:E30) -> 0 | F31: =SUM(F26:F30) -> 64000 | G31: =SUM(G26:G30) -> 64000 | H31: =SUM(H26:H30) -> 0
A32: OWNER COSTS
A33: Furniture, Fixtures & Equipment | B33: =SUMIF('Cost Detail'!$A$5:$A$54,$A33,'Cost Detail'!$D$5:$D$54) -> 12000 | C33: =SUMIF('Cost Detail'!$A$5:$A$54,$A33,'Cost Detail'!$E$5:$E$54) -> 0 | D33: =B33+C33 -> 12000 | E33: =SUMIF('Cost Detail'!$A$5:$A$54,$A33,'Cost Detail'!$G$5:$G$54) -> 0 | F33: =SUMIF('Cost Detail'!$A$5:$A$54,$A33,'Cost Detail'!$I$5:$I$54) -> 12000 | G33: =E33+F33 -> 12000 | H33: =D33-G33 -> 0
A34: Technology / AV / Security | B34: =SUMIF('Cost Detail'!$A$5:$A$54,$A34,'Cost Detail'!$D$5:$D$54) -> 5000 | C34: =SUMIF('Cost Detail'!$A$5:$A$54,$A34,'Cost Detail'!$E$5:$E$54) -> 0 | D34: =B34+C34 -> 5000 | E34: =SUMIF('Cost Detail'!$A$5:$A$54,$A34,'Cost Detail'!$G$5:$G$54) -> 0 | F34: =SUMIF('Cost Detail'!$A$5:$A$54,$A34,'Cost Detail'!$I$5:$I$54) -> 5000 | G34: =E34+F34 -> 5000 | H34: =D34-G34 -> 0
A35: Moving / Relocation | B35: =SUMIF('Cost Detail'!$A$5:$A$54,$A35,'Cost Detail'!$D$5:$D$54) -> 3000 | C35: =SUMIF('Cost Detail'!$A$5:$A$54,$A35,'Cost Detail'!$E$5:$E$54) -> 0 | D35: =B35+C35 -> 3000 | E35: =SUMIF('Cost Detail'!$A$5:$A$54,$A35,'Cost Detail'!$G$5:$G$54) -> 0 | F35: =SUMIF('Cost Detail'!$A$5:$A$54,$A35,'Cost Detail'!$I$5:$I$54) -> 3000 | G35: =E35+F35 -> 3000 | H35: =D35-G35 -> 0
A36: Other Owner Costs | B36: =SUMIF('Cost Detail'!$A$5:$A$54,$A36,'Cost Detail'!$D$5:$D$54) -> 0 | C36: =SUMIF('Cost Detail'!$A$5:$A$54,$A36,'Cost Detail'!$E$5:$E$54) -> 0 | D36: =B36+C36 -> 0 | E36: =SUMIF('Cost Detail'!$A$5:$A$54,$A36,'Cost Detail'!$G$5:$G$54) -> 0 | F36: =SUMIF('Cost Detail'!$A$5:$A$54,$A36,'Cost Detail'!$I$5:$I$54) -> 0 | G36: =E36+F36 -> 0 | H36: =D36-G36 -> 0
A37: Owner Costs Subtotal | B37: =SUM(B33:B36) -> 20000 | C37: =SUM(C33:C36) -> 0 | D37: =SUM(D33:D36) -> 20000 | E37: =SUM(E33:E36) -> 0 | F37: =SUM(F33:F36) -> 20000 | G37: =SUM(G33:G36) -> 20000 | H37: =SUM(H33:H36) -> 0
A38: ALLOWANCES & CONTINGENCY
A39: Construction Contingency | B39: =SUMIF('Cost Detail'!$A$5:$A$54,$A39,'Cost Detail'!$D$5:$D$54) -> 30000 | C39: =SUMIF('Cost Detail'!$A$5:$A$54,$A39,'Cost Detail'!$E$5:$E$54) -> 0 | D39: =B39+C39 -> 30000 | E39: =SUMIF('Cost Detail'!$A$5:$A$54,$A39,'Cost Detail'!$G$5:$G$54) -> 0 | F39: =SUMIF('Cost Detail'!$A$5:$A$54,$A39,'Cost Detail'!$I$5:$I$54) -> 30000 | G39: =E39+F39 -> 30000 | H39: =D39-G39 -> 0
A40: Owner Contingency | B40: =SUMIF('Cost Detail'!$A$5:$A$54,$A40,'Cost Detail'!$D$5:$D$54) -> 20000 | C40: =SUMIF('Cost Detail'!$A$5:$A$54,$A40,'Cost Detail'!$E$5:$E$54) -> 0 | D40: =B40+C40 -> 20000 | E40: =SUMIF('Cost Detail'!$A$5:$A$54,$A40,'Cost Detail'!$G$5:$G$54) -> 0 | F40: =SUMIF('Cost Detail'!$A$5:$A$54,$A40,'Cost Detail'!$I$5:$I$54) -> 20000 | G40: =E40+F40 -> 20000 | H40: =D40-G40 -> 0
A41: Allowances | B41: =SUMIF('Cost Detail'!$A$5:$A$54,$A41,'Cost Detail'!$D$5:$D$54) -> 0 | C41: =SUMIF('Cost Detail'!$A$5:$A$54,$A41,'Cost Detail'!$E$5:$E$54) -> 0 | D41: =B41+C41 -> 0 | E41: =SUMIF('Cost Detail'!$A$5:$A$54,$A41,'Cost Detail'!$G$5:$G$54) -> 0 | F41: =SUMIF('Cost Detail'!$A$5:$A$54,$A41,'Cost Detail'!$I$5:$I$54) -> 0 | G41: =E41+F41 -> 0 | H41: =D41-G41 -> 0
A42: Allowances & Contingency Subtotal | B42: =SUM(B39:B41) -> 50000 | C42: =SUM(C39:C41) -> 0 | D42: =SUM(D39:D41) -> 50000 | E42: =SUM(E39:E41) -> 0 | F42: =SUM(F39:F41) -> 50000 | G42: =SUM(G39:G41) -> 50000 | H42: =SUM(H39:H41) -> 0
A44: TOTAL PROJECT BUDGET | B44: =B24+B31+B37+B42 -> 734000 | C44: =C24+C31+C37+C42 -> 0 | D44: =D24+D31+D37+D42 -> 734000 | E44: =E24+E31+E37+E42 -> 0 | F44: =F24+F31+F37+F42 -> 734000 | G44: =G24+G31+G37+G42 -> 734000 | H44: =H24+H31+H37+H42 -> 0
A46: Budget / SF | B46: =IFERROR(D44/F6,0) -> 293.6 | D46: Forecast / SF | E46: =IFERROR(G44/F6,0) -> 293.6
...

Sheet Cost Detail
A1: DESIGNED & BUILT | COST DETAIL REGISTER | M1: General Conditions
A2: Enter project line items here. Budget Summary automatically rolls up totals by Category. | M2: Site Work & Demolition
M3: Structure
A4: Category | B4: Description | C4: Vendor / Contractor | D4: Original Budget | E4: Approved Changes | F4: Current Budget | G4: Committed | H4: Paid to Date | I4: Forecast to Complete | J4: Forecast Final | K4: Notes | M4: Carpentry & Framing
A5: General Conditions | B5: Concept budget allowance | C5: Planning estimate | D5: 50000 | E5: 0 | F5: =D5+E5 -> 50000 | G5: 0 | H5: 0 | I5: 50000 | J5: =G5+I5 -> 50000 | K5: Seeded from verified 2,500 SF Ohio test estimate. | M5: Building Envelope / Roofing
A6: Site Work & Demolition | B6: Concept budget allowance | C6: Planning estimate | D6: 35000 | E6: 0 | F6: =D6+E6 -> 35000 | G6: 0 | H6: 0 | I6: 35000 | J6: =G6+I6 -> 35000 | K6: Seeded from verified 2,500 SF Ohio test estimate. | M6: Doors / Windows / Glazing
A7: Structure | B7: Concept budget allowance | C7: Planning estimate | D7: 80000 | E7: 0 | F7: =D7+E7 -> 80000 | G7: 0 | H7: 0 | I7: 80000 | J7: =G7+I7 -> 80000 | K7: Seeded from verified 2,500 SF Ohio test estimate. | M7: Interior Construction & Finishes
A8: Carpentry & Framing | B8: Concept budget allowance | C8: Planning estimate | D8: 95000 | E8: 0 | F8: =D8+E8 -> 95000 | G8: 0 | H8: 0 | I8: 95000 | J8: =G8+I8 -> 95000 | K8: Seeded from verified 2,500 SF Ohio test estimate. | M8: Mechanical / Plumbing / Electrical
A9: Building Envelope / Roofing | B9: Concept budget allowance | C9: Planning estimate | D9: 70000 | E9: 0 | F9: =D9+E9 -> 70000 | G9: 0 | H9: 0 | I9: 70000 | J9: =G9+I9 -> 70000 | K9: Seeded from verified 2,500 SF Ohio test estimate. | M9: Fire Protection
A10: Doors / Windows / Glazing | B10: Concept budget allowance | C10: Planning estimate | D10: 45000 | E10: 0 | F10: =D10+E10 -> 45000 | G10: 0 | H10: 0 | I10: 45000 | J10: =G10+I10 -> 45000 | K10: Seeded from verified 2,500 SF Ohio test estimate. | M10: Site / Exterior Improvements
A11: Interior Construction & Finishes | B11: Concept budget allowance | C11: Planning estimate | D11: 105000 | E11: 0 | F11: =D11+E11 -> 105000 | G11: 0 | H11: 0 | I11: 105000 | J11: =G11+I11 -> 105000 | K11: Seeded from verified 2,500 SF Ohio test estimate. | M11: Architecture & Engineering
A12: Mechanical / Plumbing / Electrical | B12: Concept budget allowance | C12: Planning estimate | D12: 90000 | E12: 0 | F12: =D12+E12 -> 90000 | G12: 0 | H12: 0 | I12: 90000 | J12: =G12+I12 -> 90000 | K12: Seeded from verified 2,500 SF Ohio test estimate. | M12: Survey / Geotechnical
A13: Fire Protection | B13: Concept budget allowance | C13: Planning estimate | D13: 0 | E13: 0 | F13: =D13+E13 -> 0 | G13: 0 | H13: 0 | I13: 0 | J13: =G13+I13 -> 0 | K13: Seeded from verified 2,500 SF Ohio test estimate. | M13: Permits / Plan Review
A14: Site / Exterior Improvements | B14: Concept budget allowance | C14: Planning estimate | D14: 30000 | E14: 0 | F14: =D14+E14 -> 30000 | G14: 0 | H14: 0 | I14: 30000 | J14: =G14+I14 -> 30000 | K14: Seeded from verified 2,500 SF Ohio test estimate. | M14: Testing / Inspections
A15: Architecture & Engineering | B15: Concept budget allowance | C15: Planning estimate | D15: 42000 | E15: 0 | F15: =D15+E15 -> 42000 | G15: 0 | H15: 0 | I15: 42000 | J15: =G15+I15 -> 42000 | K15: Seeded from verified 2,500 SF Ohio test estimate. | M15: Insurance / Legal / Financing
A16: Survey / Geotechnical | B16: Concept budget allowance | C16: Planning estimate | D16: 6000 | E16: 0 | F16: =D16+E16 -> 6000 | G16: 0 | H16: 0 | I16: 6000 | J16: =G16+I16 -> 6000 | K16: Seeded from verified 2,500 SF Ohio test estimate. | M16: Furniture, Fixtures & Equipment
... A22: Moving / Relocation | B22: Concept budget allowance | C22: Planning estimate | D22: 3000 | E22: 0 | F22: =D22+E22 -> 3000 | G22: 0 | H22: 0 | I22: 3000 | J22: =G22+I22 -> 3000 | K22: Seeded from verified 2,500 SF Ohio test estimate. | M22: Allowances
A23: Other Owner Costs | B23: Concept budget allowance | C23: Planning estimate | D23: 0 | E23: 0 | F23: =D23+E23 -> 0 | G23: 0 | H23: 0 | I23: 0 | J23: =G23+I23 -> 0 | K23: Seeded from verified 2,500 SF Ohio test estimate.
A24: Construction Contingency | B24: Concept budget allowance | C24: Planning estimate | D24: 30000 | E24: 0 | F24: =D24+E24 -> 30000 | G24: 0 | H24: 0 | I24: 30000 | J24: =G24+I24 -> 30000 | K24: Seeded from verified 2,500 SF Ohio test estimate.
A25: Owner Contingency | B25: Concept budget allowance | C25: Planning estimate | D25: 20000 | E25: 0 | F25: =D25+E25 -> 20000 | G25: 0 | H25: 0 | I25: 20000 | J25: =G25+I25 -> 20000 | K25: Seeded from verified 2,500 SF Ohio test estimate.
A26: Allowances | B26: Concept budget allowance | C26: Planning estimate | D26: 0 | E26: 0 | F26: =D26+E26 -> 0 | G26: 0 | H26: 0 | I26: 0 | J26: =G26+I26 -> 0 | K26: Seeded from verified 2,500 SF Ohio test estimate.
F27: =D27+E27 -> 0 | J27: =G27+I27 -> 0
F28: =D28+E28 -> 0 | J28: =G28+I28 -> 0
F29: =D29+E29 -> 0 | J29: =G29+I29 -> 0
F30: =D30+E30 -> 0 | J30: =G30+I30 -> 0
F31: =D31+E31 -> 0 | J31: =G31+I31 -> 0
F32: =D32+E32 -> 0 | J32: =G32+I32 -> 0
F33: =D33+E33 -> 0 | J33: =G33+I33 -> 0
F34: =D34+E34 -> 0 | J34: =G34+I34 -> 0
F35: =D35+E35 -> 0 | J35: =G35+I35 -> 0
F36: =D36+E36 -> 0 | J36: =G36+I36 -> 0
F37: =D37+E37 -> 0 | J37: =G37+I37 -> 0
F38: =D38+E38 -> 0 | J38: =G38+I38 -> 0
... F54: =D54+E54 -> 0 | J54: =G54+I54 -> 0

Sheet Read Me
B2: HOW TO USE THIS WORKBOOK
B4: 1 | C4: Start on Cost Detail Enter each budget line, bid, contract, purchase order, allowance, or owner cost. Select a Category from the dropdown.
B5: 2 | C5: Budget Summary rolls up automatically Original Budget, Approved Changes, Committed, and Forecast to Complete are totaled from Cost Detail by Category. Do not type over the linked summary cells.
B6: 3 | C6: Watch the variance Current Budget = Original Budget + Approved Changes. Forecast Final = Committed + Forecast to Complete. Variance = Current Budget - Forecast Final.
B7: 4 | C7: Use one or many detail lines per category Add as much detail as you need. Multiple line items with the same Category will automatically combine on Budget Summary.
B8: 5 | C8: Keep alternates separate Use the Alternates / Options section for add/deduct items until accepted. Once approved, add the amount as an Approved Change on the appropriate Cost Detail line.
B11: Color key: Blue = user input | Green = linked roll-up | Black = formula | Gray = labels / static text
